BEGIN:VCALENDAR
VERSION:2.0
PRODID:-//hacksw/handcal//NONSGML v1.0//EN
CALSCALE:GREGORIAN
BEGIN:VEVENT
DTSTART;TZID=Europe/Istanbul:20250514
DTEND;TZID=Europe/Istanbul:20250514T235959
DESCRIPTION:Deprem Konferansı 
SUMMARY:Deprem Konferansı 
URL;VALUE=URI:https://modadenizkulubu.org.tr/etkinlikler/1122
DTSTAMP:20260421T101356Z
UID:etkinlik-69e74de4ad92a@modadenizkulubu.org.tr
END:VEVENT
END:VCALENDAR
