BEGIN:VCALENDAR
VERSION:2.0
PRODID:-//hacksw/handcal//NONSGML v1.0//EN
CALSCALE:GREGORIAN
BEGIN:VEVENT
DTSTART;TZID=Europe/Istanbul:20240316
DTEND;TZID=Europe/Istanbul:20240316T235959
DESCRIPTION:Çocuk Tiyatrosu ''Uyuyan Güzel''
SUMMARY:Çocuk Tiyatrosu ''Uyuyan Güzel''
URL;VALUE=URI:https://modadenizkulubu.org.tr/etkinlikler/934
DTSTAMP:20260421T213235Z
UID:etkinlik-69e7ecf316849@modadenizkulubu.org.tr
END:VEVENT
END:VCALENDAR
