BEGIN:VCALENDAR
VERSION:2.0
PRODID:-//hacksw/handcal//NONSGML v1.0//EN
CALSCALE:GREGORIAN
BEGIN:VEVENT
DTSTART;TZID=Europe/Istanbul:20240127
DTEND;TZID=Europe/Istanbul:20240127T235959
DESCRIPTION:Çocuk Tiyatrosu ''Benimle Oynar Mısın?''
SUMMARY:Çocuk Tiyatrosu ''Benimle Oynar Mısın?''
URL;VALUE=URI:https://modadenizkulubu.org.tr/etkinlikler/913
DTSTAMP:20260422T005031Z
UID:etkinlik-69e81b5740b16@modadenizkulubu.org.tr
END:VEVENT
END:VCALENDAR
