BEGIN:VCALENDAR
VERSION:2.0
PRODID:-//hacksw/handcal//NONSGML v1.0//EN
CALSCALE:GREGORIAN
BEGIN:VEVENT
DTSTART;TZID=Europe/Istanbul:20260515T213000
DTEND;TZID=Europe/Istanbul:20260515
DESCRIPTION:Brenda Berin 
SUMMARY:Brenda Berin 
URL;VALUE=URI:https://www.modadenizkulubu.org.tr/etkinlikler/3240
DTSTAMP:20260420T150351Z
UID:etkinlik-69e640574e397@modadenizkulubu.org.tr
END:VEVENT
END:VCALENDAR
