BEGIN:VCALENDAR
VERSION:2.0
PRODID:-//hacksw/handcal//NONSGML v1.0//EN
CALSCALE:GREGORIAN
BEGIN:VEVENT
DTSTART;TZID=Europe/Istanbul:20230404
DTEND;TZID=Europe/Istanbul:20230404T235959
DESCRIPTION:Bilgilendirme Sohbeti..
SUMMARY:Bilgilendirme Sohbeti..
URL;VALUE=URI:https://modadenizkulubu.org.tr/etkinlikler/769
DTSTAMP:20260422T042025Z
UID:etkinlik-69e84c89af8c5@modadenizkulubu.org.tr
END:VEVENT
END:VCALENDAR
