BEGIN:VCALENDAR
VERSION:2.0
PRODID:-//hacksw/handcal//NONSGML v1.0//EN
CALSCALE:GREGORIAN
BEGIN:VEVENT
DTSTART;TZID=Europe/Istanbul:20240410
DTEND;TZID=Europe/Istanbul:20240410T235959
DESCRIPTION:Bayramın Özel
SUMMARY:Bayramın Özel
URL;VALUE=URI:https://modadenizkulubu.org.tr/etkinlikler/947
DTSTAMP:20260421T194555Z
UID:etkinlik-69e7d3f30369c@modadenizkulubu.org.tr
END:VEVENT
END:VCALENDAR
