BEGIN:VCALENDAR
VERSION:2.0
PRODID:-//hacksw/handcal//NONSGML v1.0//EN
CALSCALE:GREGORIAN
BEGIN:VEVENT
DTSTART;TZID=Europe/Istanbul:20240411
DTEND;TZID=Europe/Istanbul:20240411T235959
DESCRIPTION:Bayramın Özel 
SUMMARY:Bayramın Özel 
URL;VALUE=URI:https://modadenizkulubu.org.tr/etkinlikler/948
DTSTAMP:20260421T194522Z
UID:etkinlik-69e7d3d26abf6@modadenizkulubu.org.tr
END:VEVENT
END:VCALENDAR
