BEGIN:VCALENDAR
VERSION:2.0
PRODID:-//hacksw/handcal//NONSGML v1.0//EN
CALSCALE:GREGORIAN
BEGIN:VEVENT
DTSTART;TZID=Europe/Istanbul:20250331
DTEND;TZID=Europe/Istanbul:20250331T235959
DESCRIPTION:Bayramın 2. Günü:  Kaan Öztürk ve Orkestrası ft. Zeynep Talu  Bayram Boyunca: - The Club Bar
SUMMARY:Bayramın 2. Günü:  Kaan Öztürk ve Orkestrası ft. Zeynep Talu  Bayram Boyunca: - The Club Bar
URL;VALUE=URI:https://modadenizkulubu.org.tr/etkinlikler/1100
DTSTAMP:20260421T130116Z
UID:etkinlik-69e7751c0cded@modadenizkulubu.org.tr
END:VEVENT
END:VCALENDAR
