BEGIN:VCALENDAR
VERSION:2.0
PRODID:-//hacksw/handcal//NONSGML v1.0//EN
CALSCALE:GREGORIAN
BEGIN:VEVENT
DTSTART;TZID=Europe/Istanbul:20250330
DTEND;TZID=Europe/Istanbul:20250330T235959
DESCRIPTION:Bayram Özel
SUMMARY:Bayram Özel
URL;VALUE=URI:https://modadenizkulubu.org.tr/etkinlikler/1095
DTSTAMP:20260421T130338Z
UID:etkinlik-69e775aa4637a@modadenizkulubu.org.tr
END:VEVENT
END:VCALENDAR
