BEGIN:VCALENDAR
VERSION:2.0
PRODID:-//hacksw/handcal//NONSGML v1.0//EN
CALSCALE:GREGORIAN
BEGIN:VEVENT
DTSTART;TZID=Europe/Istanbul:20230309
DTEND;TZID=Europe/Istanbul:20230309T235959
DESCRIPTION:Ayşe Kulin ile Sohbet..
SUMMARY:Ayşe Kulin ile Sohbet..
URL;VALUE=URI:https://modadenizkulubu.org.tr/etkinlikler/754
DTSTAMP:20260422T055037Z
UID:etkinlik-69e861adbbcd9@modadenizkulubu.org.tr
END:VEVENT
END:VCALENDAR
