BEGIN:VCALENDAR
VERSION:2.0
PRODID:-//hacksw/handcal//NONSGML v1.0//EN
CALSCALE:GREGORIAN
BEGIN:VEVENT
DTSTART;TZID=Europe/Istanbul:20230325
DTEND;TZID=Europe/Istanbul:20230325T235959
DESCRIPTION:Aybüke Albere
SUMMARY:Aybüke Albere
URL;VALUE=URI:https://modadenizkulubu.org.tr/etkinlikler/759
DTSTAMP:20260422T055104Z
UID:etkinlik-69e861c8e16ed@modadenizkulubu.org.tr
END:VEVENT
END:VCALENDAR
