BEGIN:VCALENDAR
VERSION:2.0
PRODID:-//hacksw/handcal//NONSGML v1.0//EN
CALSCALE:GREGORIAN
BEGIN:VEVENT
DTSTART;TZID=Europe/Istanbul:20250127
DTEND;TZID=Europe/Istanbul:20250127T235959
DESCRIPTION:Atatürk’ün Gemileri
SUMMARY:Atatürk’ün Gemileri
URL;VALUE=URI:https://modadenizkulubu.org.tr/etkinlikler/1071
DTSTAMP:20260421T163001Z
UID:etkinlik-69e7a609f2984@modadenizkulubu.org.tr
END:VEVENT
END:VCALENDAR
