BEGIN:VCALENDAR
VERSION:2.0
PRODID:-//hacksw/handcal//NONSGML v1.0//EN
CALSCALE:GREGORIAN
BEGIN:VEVENT
DTSTART;TZID=Europe/Istanbul:20240122
DTEND;TZID=Europe/Istanbul:20240122T235959
DESCRIPTION:Atatürk’ü Anma ve Anlama Etkinlikleri
SUMMARY:Atatürk’ü Anma ve Anlama Etkinlikleri
URL;VALUE=URI:https://www.modadenizkulubu.org.tr/etkinlikler/910
DTSTAMP:20260421T200808Z
UID:etkinlik-69e7d928653f8@modadenizkulubu.org.tr
END:VEVENT
END:VCALENDAR
