BEGIN:VCALENDAR
VERSION:2.0
PRODID:-//hacksw/handcal//NONSGML v1.0//EN
CALSCALE:GREGORIAN
BEGIN:VEVENT
DTSTART;TZID=Europe/Istanbul:20250319
DTEND;TZID=Europe/Istanbul:20250319T235959
DESCRIPTION:Atatürk'ü Anma ve Anlama Etkinliği
SUMMARY:Atatürk'ü Anma ve Anlama Etkinliği
URL;VALUE=URI:https://modadenizkulubu.org.tr/etkinlikler/1094
DTSTAMP:20260421T130306Z
UID:etkinlik-69e7758a4b9bd@modadenizkulubu.org.tr
END:VEVENT
END:VCALENDAR
