BEGIN:VCALENDAR
VERSION:2.0
PRODID:-//hacksw/handcal//NONSGML v1.0//EN
CALSCALE:GREGORIAN
BEGIN:VEVENT
DTSTART;TZID=Europe/Istanbul:20250214
DTEND;TZID=Europe/Istanbul:20250214T235959
DESCRIPTION:Ata Marin Band
SUMMARY:Ata Marin Band
URL;VALUE=URI:https://modadenizkulubu.org.tr/etkinlikler/1077
DTSTAMP:20260421T144239Z
UID:etkinlik-69e78cdf8780e@modadenizkulubu.org.tr
END:VEVENT
END:VCALENDAR
