BEGIN:VCALENDAR
VERSION:2.0
PRODID:-//hacksw/handcal//NONSGML v1.0//EN
CALSCALE:GREGORIAN
BEGIN:VEVENT
DTSTART;TZID=Europe/Istanbul:20240512
DTEND;TZID=Europe/Istanbul:20240512T235959
DESCRIPTION:Anneler Günü “Veranda Cafe”10.00 - 13.30
SUMMARY:Anneler Günü “Veranda Cafe”10.00 - 13.30
URL;VALUE=URI:https://modadenizkulubu.org.tr/etkinlikler/962
DTSTAMP:20260421T180257Z
UID:etkinlik-69e7bbd1126dd@modadenizkulubu.org.tr
END:VEVENT
END:VCALENDAR
