BEGIN:VCALENDAR
VERSION:2.0
PRODID:-//hacksw/handcal//NONSGML v1.0//EN
CALSCALE:GREGORIAN
BEGIN:VEVENT
DTSTART;TZID=Europe/Istanbul:20250511
DTEND;TZID=Europe/Istanbul:20250511T235959
DESCRIPTION:Anneler Günü '' Veranda Cafe''	
SUMMARY:Anneler Günü '' Veranda Cafe''	
URL;VALUE=URI:https://modadenizkulubu.org.tr/etkinlikler/1110
DTSTAMP:20260421T101551Z
UID:etkinlik-69e74e579fdd7@modadenizkulubu.org.tr
END:VEVENT
END:VCALENDAR
