BEGIN:VCALENDAR
VERSION:2.0
PRODID:-//hacksw/handcal//NONSGML v1.0//EN
CALSCALE:GREGORIAN
BEGIN:VEVENT
DTSTART;TZID=Europe/Istanbul:20250511
DTEND;TZID=Europe/Istanbul:20250511T235959
DESCRIPTION:Anneler Günü ''Marine Restaurant''	
SUMMARY:Anneler Günü ''Marine Restaurant''	
URL;VALUE=URI:https://modadenizkulubu.org.tr/etkinlikler/1112
DTSTAMP:20260421T101558Z
UID:etkinlik-69e74e5ebdc7c@modadenizkulubu.org.tr
END:VEVENT
END:VCALENDAR
