BEGIN:VCALENDAR
VERSION:2.0
PRODID:-//hacksw/handcal//NONSGML v1.0//EN
CALSCALE:GREGORIAN
BEGIN:VEVENT
DTSTART;TZID=Europe/Istanbul:20230514
DTEND;TZID=Europe/Istanbul:20230514T235959
DESCRIPTION:Anneler Günü ''Deniz Cafe''
SUMMARY:Anneler Günü ''Deniz Cafe''
URL;VALUE=URI:https://modadenizkulubu.org.tr/etkinlikler/791
DTSTAMP:20260422T023445Z
UID:etkinlik-69e833c570c9d@modadenizkulubu.org.tr
END:VEVENT
END:VCALENDAR
