BEGIN:VCALENDAR
VERSION:2.0
PRODID:-//hacksw/handcal//NONSGML v1.0//EN
CALSCALE:GREGORIAN
BEGIN:VEVENT
DTSTART;TZID=Europe/Istanbul:20230507
DTEND;TZID=Europe/Istanbul:20230507T235959
DESCRIPTION:Anneler Günü Alışveriş Şenliği '' Mother's Day Market''
SUMMARY:Anneler Günü Alışveriş Şenliği '' Mother's Day Market''
URL;VALUE=URI:https://modadenizkulubu.org.tr/etkinlikler/788
DTSTAMP:20260422T023439Z
UID:etkinlik-69e833bf6f202@modadenizkulubu.org.tr
END:VEVENT
END:VCALENDAR
