BEGIN:VCALENDAR
VERSION:2.0
PRODID:-//hacksw/handcal//NONSGML v1.0//EN
CALSCALE:GREGORIAN
BEGIN:VEVENT
DTSTART;TZID=Europe/Istanbul:20260430T213000
DTEND;TZID=Europe/Istanbul:20260430
DESCRIPTION:Alara Noyan 
SUMMARY:Alara Noyan 
URL;VALUE=URI:https://modadenizkulubu.org.tr/etkinlikler/3242
DTSTAMP:20260421T122744Z
UID:etkinlik-69e76d406b6f4@modadenizkulubu.org.tr
END:VEVENT
END:VCALENDAR
