BEGIN:VCALENDAR
VERSION:2.0
PRODID:-//hacksw/handcal//NONSGML v1.0//EN
CALSCALE:GREGORIAN
BEGIN:VEVENT
DTSTART;TZID=Europe/Istanbul:20250423
DTEND;TZID=Europe/Istanbul:20250423T235959
DESCRIPTION:23 Nisan Geleneksel Çocuk Panayırı
SUMMARY:23 Nisan Geleneksel Çocuk Panayırı
URL;VALUE=URI:https://modadenizkulubu.org.tr/etkinlikler/1106
DTSTAMP:20260421T114240Z
UID:etkinlik-69e762b0b35ee@modadenizkulubu.org.tr
END:VEVENT
END:VCALENDAR
