BEGIN:VCALENDAR
VERSION:2.0
PRODID:-//hacksw/handcal//NONSGML v1.0//EN
CALSCALE:GREGORIAN
BEGIN:VEVENT
DTSTART;TZID=Europe/Istanbul:20240519
DTEND;TZID=Europe/Istanbul:20240519T235959
DESCRIPTION:19 Mayıs Kutlaması
SUMMARY:19 Mayıs Kutlaması
URL;VALUE=URI:https://modadenizkulubu.org.tr/etkinlikler/970
DTSTAMP:20260421T180241Z
UID:etkinlik-69e7bbc154167@modadenizkulubu.org.tr
END:VEVENT
END:VCALENDAR
