BEGIN:VCALENDAR
VERSION:2.0
PRODID:-//hacksw/handcal//NONSGML v1.0//EN
CALSCALE:GREGORIAN
BEGIN:VEVENT
DTSTART;TZID=Europe/Istanbul:20240323
DTEND;TZID=Europe/Istanbul:20240323T235959
DESCRIPTION: Yol Project
SUMMARY: Yol Project
URL;VALUE=URI:https://modadenizkulubu.org.tr/etkinlikler/935
DTSTAMP:20260421T213235Z
UID:etkinlik-69e7ecf315517@modadenizkulubu.org.tr
END:VEVENT
END:VCALENDAR
