BEGIN:VCALENDAR
VERSION:2.0
PRODID:-//hacksw/handcal//NONSGML v1.0//EN
CALSCALE:GREGORIAN
BEGIN:VEVENT
DTSTART;TZID=Europe/Istanbul:20240531
DTEND;TZID=Europe/Istanbul:20240531T235959
DESCRIPTION: DJ Kerem Taş ile Oldies but Goldies
SUMMARY: DJ Kerem Taş ile Oldies but Goldies
URL;VALUE=URI:https://modadenizkulubu.org.tr/etkinlikler/956
DTSTAMP:20260421T180355Z
UID:etkinlik-69e7bc0b4cdf4@modadenizkulubu.org.tr
END:VEVENT
END:VCALENDAR
